BEGIN:VCALENDAR
VERSION:2.0
PRODID:-//Conservation Resource Alliance - ECPv6.15.20//NONSGML v1.0//EN
CALSCALE:GREGORIAN
METHOD:PUBLISH
X-ORIGINAL-URL:https://www.rivercare.org
X-WR-CALDESC:Events for Conservation Resource Alliance
REFRESH-INTERVAL;VALUE=DURATION:PT1H
X-Robots-Tag:noindex
X-PUBLISHED-TTL:PT1H
BEGIN:VTIMEZONE
TZID:America/Detroit
BEGIN:DAYLIGHT
TZOFFSETFROM:-0500
TZOFFSETTO:-0400
TZNAME:EDT
DTSTART:20250309T070000
END:DAYLIGHT
BEGIN:STANDARD
TZOFFSETFROM:-0400
TZOFFSETTO:-0500
TZNAME:EST
DTSTART:20251102T060000
END:STANDARD
BEGIN:DAYLIGHT
TZOFFSETFROM:-0500
TZOFFSETTO:-0400
TZNAME:EDT
DTSTART:20260308T070000
END:DAYLIGHT
BEGIN:STANDARD
TZOFFSETFROM:-0400
TZOFFSETTO:-0500
TZNAME:EST
DTSTART:20261101T060000
END:STANDARD
BEGIN:DAYLIGHT
TZOFFSETFROM:-0500
TZOFFSETTO:-0400
TZNAME:EDT
DTSTART:20270314T070000
END:DAYLIGHT
BEGIN:STANDARD
TZOFFSETFROM:-0400
TZOFFSETTO:-0500
TZNAME:EST
DTSTART:20271107T060000
END:STANDARD
END:VTIMEZONE
BEGIN:VEVENT
DTSTART;TZID=America/Detroit:20260415T170000
DTEND;TZID=America/Detroit:20260415T190000
DTSTAMP:20260419T133703
CREATED:20260317T185627Z
LAST-MODIFIED:20260317T205406Z
UID:10000028-1776272400-1776279600@www.rivercare.org
SUMMARY:The Confluence: Ludington
DESCRIPTION:The Confluence: LudingtonCelebrating CRA’s River Care projects—and the people who make them possible. \nThe Confluence is a series of Conservation Resource Alliance (CRA) events held across our service region. Each gathering highlights local River Care projects—both ongoing and recently completed—while celebrating the supporters\, partners\, and community members who make this work possible. \nEach Confluence event will offer a slightly different experience\, reflecting the unique projects and communities in each region. Additional dates and locations will be announced soon. We hope you’ll join us for our first event in Ludington\, Michigan! \nJoin us on Wednesday\, April 15 from 5:00–7:00 PM at Ludington Bay Brewing Company for a relaxed evening connecting with fellow supporters and learning more about CRA’s work in your area. \nThe Confluence: Ludington will spotlight projects along the Pere Marquette River\, including updates on the Baldwin Dam Removal Project. A brief project presentation will begin at 6:00 PM. \nEnjoy appetizers and your first drink on us while we share a brief update on how your support is helping restore and protect our rivers. Stick around for door prize drawings—we’ve lined up a few fun giveaways as a small thank you for all you do to care for and champion these places. \nWhether you’ve been involved with CRA for years or are just getting to know our work\, we’d love to see you there. \nSpace is limited and registration is required.Spots will be filled on a first-come\, first-served basis. \nPlease RSVP by April 6\, 2026: \n			\n				RSVP HERE
URL:https://www.rivercare.org/event/the-confluence-ludington/
LOCATION:Ludington Bay Brewing Company\, 515 S James St\, Ludington\, 49431\, United States
ATTACH;FMTTYPE=image/jpeg:https://www.rivercare.org/wp-content/uploads/2026/03/RiverCare-ConnectConfluence-1.jpg
ORGANIZER;CN="CRA":MAILTO:info@rivercare.org
END:VEVENT
BEGIN:VEVENT
DTSTART;TZID=America/Detroit:20260508T090000
DTEND;TZID=America/Detroit:20260508T110000
DTSTAMP:20260419T133703
CREATED:20260413T133157Z
LAST-MODIFIED:20260413T195733Z
UID:10000029-1778230800-1778238000@www.rivercare.org
SUMMARY:Guided Birding Walk at the Boardman River
DESCRIPTION:Join us on the morning of Friday\, May 8\, from 9–11 AM at the Brown Bridge Quiet Area Canoe Launch for a guided birding walk led by CRA’s Executive Director\, Suzie Knoll. Whether you’re an experienced birder or simply curious about our feathered friends\, this walk is welcoming to all skill levels. \nLocated along the Boardman-Ottaway River\, this area was once submerged beneath a 191-acre impoundment for decades. In 2012\, the Brown Bridge Dam was removed through a collaborative restoration effort led by CRA and project partners\, allowing the river and surrounding landscape to return to a more natural state. \nToday\, the site is managed by the Grand Traverse Conservation District and has become a thriving habitat\, rich with plant\, aquatic\, and bird life. Join us to experience this remarkable transformation firsthand. \nEnjoy complimentary coffee and cookies\, generously provided by Mundos Roasting & Co. \nThis event is free\, but registration is required below. \n			\n				RSVP HERE
URL:https://www.rivercare.org/event/guided-birding-walk/
LOCATION:Brown Bridge Canoe Launch\, 3307-3379 Brown Bridge Rd\, Traverse City\, MI 49696\, Traverse City\, MI\, 49696\, United States
ATTACH;FMTTYPE=image/png:https://www.rivercare.org/wp-content/uploads/2026/04/Birding-Promo.png
ORGANIZER;CN="CRA":MAILTO:info@rivercare.org
END:VEVENT
END:VCALENDAR