BEGIN:VCALENDAR
VERSION:2.0
PRODID:-//Conservation Resource Alliance - ECPv6.15.20//NONSGML v1.0//EN
CALSCALE:GREGORIAN
METHOD:PUBLISH
X-WR-CALNAME:Conservation Resource Alliance
X-ORIGINAL-URL:https://www.rivercare.org
X-WR-CALDESC:Events for Conservation Resource Alliance
REFRESH-INTERVAL;VALUE=DURATION:PT1H
X-Robots-Tag:noindex
X-PUBLISHED-TTL:PT1H
BEGIN:VTIMEZONE
TZID:America/Detroit
BEGIN:DAYLIGHT
TZOFFSETFROM:-0500
TZOFFSETTO:-0400
TZNAME:EDT
DTSTART:20230312T070000
END:DAYLIGHT
BEGIN:STANDARD
TZOFFSETFROM:-0400
TZOFFSETTO:-0500
TZNAME:EST
DTSTART:20231105T060000
END:STANDARD
BEGIN:DAYLIGHT
TZOFFSETFROM:-0500
TZOFFSETTO:-0400
TZNAME:EDT
DTSTART:20240310T070000
END:DAYLIGHT
BEGIN:STANDARD
TZOFFSETFROM:-0400
TZOFFSETTO:-0500
TZNAME:EST
DTSTART:20241103T060000
END:STANDARD
BEGIN:DAYLIGHT
TZOFFSETFROM:-0500
TZOFFSETTO:-0400
TZNAME:EDT
DTSTART:20250309T070000
END:DAYLIGHT
BEGIN:STANDARD
TZOFFSETFROM:-0400
TZOFFSETTO:-0500
TZNAME:EST
DTSTART:20251102T060000
END:STANDARD
BEGIN:DAYLIGHT
TZOFFSETFROM:-0500
TZOFFSETTO:-0400
TZNAME:EDT
DTSTART:20260308T070000
END:DAYLIGHT
BEGIN:STANDARD
TZOFFSETFROM:-0400
TZOFFSETTO:-0500
TZNAME:EST
DTSTART:20261101T060000
END:STANDARD
END:VTIMEZONE
BEGIN:VEVENT
DTSTART;TZID=America/Detroit:20251205T160000
DTEND;TZID=America/Detroit:20251205T180000
DTSTAMP:20260423T060720
CREATED:20251112T193651Z
LAST-MODIFIED:20251117T210557Z
UID:10000027-1764950400-1764957600@www.rivercare.org
SUMMARY:Jerry Gates Art Exhibition
DESCRIPTION:Give the Gift of Art and Conservation This Holiday Season! \nThis holiday season\, give a gift that celebrates the beauty of our natural world and helps protect it for generations to come.  \nJoin us for the Jerry Gates Art Exhibition on Friday\, December 5\, from 4–6 p.m. at Conservation Resource Alliance’s (CRA) offices. This exhibition will unveil a remarkable collection donated by local artist\, lifelong art teacher\, avid fisherman\, and dear friend of CRA\, Jerry Gates. His life’s work\, entrusted to CRA to support river conservation\, reflects his deep connection to the beautiful waters and wild landscapes that we actively steward.  \nEvery piece purchased directly supports CRA’s mission to restore and revitalize rivers and habitats in Northern Michigan through active community partnerships\, focusing on sustained\, boots-on-the-ground solutions for a healthy\, resilient Great Lakes Region.  \nWhen you make a purchase\, you’re not just bringing home a piece of fine art. You’re investing in the health and future of our region’s rivers\, streams\, and wildlife habitats.  \n			\n				RSVP HERE \n			\n			\n				\n				\n				\n				\n			\n				\n				\n				\n				\n				\n				\n				\n				\n				\n				\n				About Jerry Gates:
URL:https://www.rivercare.org/event/jerry-gates-art-exhibition/
LOCATION:CRA Office\, 10850 E Traverse Hwy #1180\, Traverse City\, MI\, 49684\, United States
ATTACH;FMTTYPE=image/png:https://www.rivercare.org/wp-content/uploads/2025/11/Jerry-Gates-Poster-FB.png
ORGANIZER;CN="CRA":MAILTO:info@rivercare.org
END:VEVENT
BEGIN:VEVENT
DTSTART;TZID=America/Detroit:20250828T150000
DTEND;TZID=America/Detroit:20250828T170000
DTSTAMP:20260423T060720
CREATED:20250724T142739Z
LAST-MODIFIED:20250725T145233Z
UID:10000026-1756393200-1756400400@www.rivercare.org
SUMMARY:Stony Creek Restoration: Ribbon Cutting Ceremony
DESCRIPTION:The West Michigan Shoreline Regional Development Commission (WMSRDC)\, Oceana County Parks and Recreation Commission\, and the Conservation Resource Alliance (CRA) invite the public to a Ribbon Cutting Ceremony celebrating the restoration of Stony Creek on Thursday\, August 28\, 2025\, from 3:00 to 5:00 PM. The event will be held at Marshville Dam Park in Shelby\, where a long-blocked section of Stony Creek is now free-flowing once again.   \nDate: Thursday\, August 28\, 2025 \nTime: 3:00 – 5:00 PM (Speakers at 3:30\, Ribbon Cutting at 4:00) \nLocation: Marshville Dam County Park: 6075 W Marshville Dam Rd\, Shelby\, MI 49455 \nParking: Please carpool if possible. Parking will be available in the field directly across the street from Marshville Dam County Park. \n			\n				\n				\n				\n				\n				\n			\n				RSVP HERE \n			\n				\n				\n				\n				\n				The celebration marks the successful removal of the Marshville Dam and an undersized stream crossing on Marshville Dam Road\, the restoration of natural stream flow\, and the revitalization of critical in-stream and stream corridor habitat in Stony Creek. A universally accessible fishing platform and informative sign were also added\, enhancing the site as a welcoming and educational community space. \nThis project exemplifies the power of collaboration between local communities\, agencies\, and nonprofit partners working together to protect and restore Michigan’s freshwater resources.  \nSpeakers will begin at 3:30 PM\, including:  \n\nGarry McKeen – Opening remarks & project background \n\n\nJohn Wyns – Historical context of the site \n\n\nErin Kuhn (WMSRDC) – Dam removal & stream crossing replacement overview \n\n\nBrian Majka (GEI Consultants) – Project design and construction details  \n\n\nDJ Shook (CRA) – Stream corridor restoration summary \n\n\nMark Tonello (Michigan DNR) – Wildlife and fisheries impact \n\nThe ribbon cutting will take place at approximately 4:00 PM.  \nLight refreshments will be served\, including cookies and a variety of beverages.  \nThis project represents a major investment in the future health of the Stony Creek watershed\, enhancing habitat\, improving fish passage\, and contributing to the resilience of Michigan’s natural infrastructure.  \nAll are welcome. Join us to celebrate this important milestone in restoring one of our region’s treasured streams.  \nFor further information\, please contact:  \nTori Wolever  \nEngagement Specialist  \nConservation Resource Alliance  \n(231) 974-2158/ tori@rivercare.org 
URL:https://www.rivercare.org/event/stony-creek-ribbon-cutting-ceremony/
LOCATION:Marshville Dam County Park\, 6075 W Marshville Dam Rd\, Shelby\, MI 49455\, Shelby\, 49455\, United States
ATTACH;FMTTYPE=image/jpeg:https://www.rivercare.org/wp-content/uploads/2025/07/Stony-Creek.jpg
END:VEVENT
BEGIN:VEVENT
DTSTART;TZID=America/Detroit:20250618T163000
DTEND;TZID=America/Detroit:20250618T183000
DTSTAMP:20260423T060721
CREATED:20250604T154932Z
LAST-MODIFIED:20250604T161853Z
UID:10000025-1750264200-1750271400@www.rivercare.org
SUMMARY:Grand Rapids Happy Hour @ The Winchester
DESCRIPTION:Join Conservation Resource Alliance (CRA) for a meet & greet happy hour in Grand Rapids. This gathering is an opportunity to meet our new Executive Director\, Suzie Knoll\, along with other members of the CRA team. Enjoy your first drink on us\, along with light bites\, as you connect with fellow conservation enthusiasts in the Grand Rapids area. Whether you’re a longtime supporter or new to CRA\, we’d love to see you there.\n\nDate: Wednesday\, June 18th\, 2025\nTime: 4:30 PM – 6:30 PM\nLocation: The Winchester – 648 Wealthy St SE\, Grand Rapids\, MI 49503\n\nPlease RSVP by June 16th\, 2025. \n			\n				RSVP Here
URL:https://www.rivercare.org/event/grand-rapids-happy-hour-the-winchester/
LOCATION:The Winchester\, 648 Wealthy St SE\, Grand Rapids\, MI\, 49503\, United States
ATTACH;FMTTYPE=image/png:https://www.rivercare.org/wp-content/uploads/2025/06/GR-Happy-Hour-1.png
ORGANIZER;CN="CRA":MAILTO:info@rivercare.org
END:VEVENT
BEGIN:VEVENT
DTSTART;TZID=America/Detroit:20250503T150000
DTEND;TZID=America/Detroit:20250503T200000
DTSTAMP:20260423T060721
CREATED:20250303T212431Z
LAST-MODIFIED:20250401T122154Z
UID:10000023-1746284400-1746302400@www.rivercare.org
SUMMARY:Hats & Horses Kentucky Derby Party- Benefits CRA
DESCRIPTION:BUY TICKETS HERE\n			\n				\n				\n				\n				\n				Iron Fish Distillery 8th Annual Hats & Horses Kentucky Derby and Fundraiser for Conservation Resource Alliance\nThe Two Most Exciting Minutes In Sports and BEST PARTY of the year is the Iron Fish Distillery 8th Annual Hats & Horses Kentucky Derby Party! Line up your pals\, get your best hat and bow tie ready and come prepared for BIG fun and the chance to support a great cause—Hats and Horses is a fundraiser for the Conservation Resource Alliance\n\nSaturday\, May 3rd – 3:00-8:00 pm (21+ Only) Arrival Time 2:45 p.m.\nArrive on time\, to size up the Parade of Horses and get an up-close look at this year’s contenders racing the Iron Fish Dirt Road Derby. Review pedigrees of this year’s racing field and make your pick among Benzie and Manistee County racing legends. The track rounds the bend of Dzuibanek Road with the finish line directly in front of the distillery. Following the race\, celebrate the crowning of the winning horse and jockey with the Garland of Roses. That’s just the beginning!\n\nIncluded with your ticket:-Event Admission-Two Delicious Derby Drinks (N/A options available)-Live Dirt Road Horse Race-Pre-Dinner Hors d’oeuvres-Southern Pig Roast with all the Fixins’-Yard Games-Hat & Bowtie Contest-Live Music | Bootstrap Boysand much\, much more…\n\nNeed Lodging?Crystal Mountain ResortGet 20% Off your room at Crystal Mountain Resort. Reference code: IRONFISH. Code valid 5/1/25 – 5/5/25. You must enter code IRONFISH under the special code tab\, and in the box labeled Crystal Connect to view correct pricing with discount. Call (855) 995-5146\n\nMotel Bear Lake Use code IRONFISH20 to save 20% off your stay. Valid for stays between May 1-4\, 2025 Call (231) 224-6273 \nFOR A GOOD CAUSE – Conservation Resource AllianceFor our 2025\, 8th annual Dirt Road Derby\, we could not be more proud to have Conservation Resource Alliance as our non-profit partner.\n\n“It makes us so happy to welcome the Conservation Resource Association\, (CRA) as our nonprofit partner for the 2025 Iron Fish Dirt Road Derby\,” said Iron Fish Partner Sarah Anderson. CRA’s nearly 40 years of community-led watershed restoration including the Betsie River near Iron Fish Distillery has led to the revitalization of our region’s rivers and habitats and fully aligns with our core values and community support priorities.” -Sarah Anderson | Co-Founder Iron Fish Distillery
URL:https://www.rivercare.org/event/hats-horses-kentucky-derby-party-benefits-cra/
LOCATION:Iron Fish Distillery\, Iron Fish Distillery\, Thompsonville\, Michigan\, 49683\, United States
ATTACH;FMTTYPE=image/jpeg:https://www.rivercare.org/wp-content/uploads/2025/03/Iron-Fish-.jpg
END:VEVENT
BEGIN:VEVENT
DTSTART;TZID=America/Detroit:20250422T160000
DTEND;TZID=America/Detroit:20250422T180000
DTSTAMP:20260423T060721
CREATED:20250404T173116Z
LAST-MODIFIED:20250404T173338Z
UID:10000024-1745337600-1745344800@www.rivercare.org
SUMMARY:Earth Day Celebration at Left Foot Charley
DESCRIPTION:RSVP HERE TODAY!\n			\n				\n				\n				\n				\n				\nJoin us on Tuesday\, April 22nd\, from 4:00 – 6:00 pm at Left Foot Charley\, located in the Grand Traverse Commons for a special Earth Day celebration benefiting CRA’s Wild Roots Program! As the selected beneficiary of this fundraiser\, we’ll be set up in the tasting room to connect with the community and wine enthusiasts alike. It’s an evening filled with good company\, great drinks\, and a chance to support local environmental initiatives.\n \nFor every Rooted Refresher (LFC’s take on the classic Hugo Spritz) and glass of Crémant of Michigan sold during the event\, $1 will be donated to support Wild Roots—helping us continue our important reforestation efforts. The Rooted Refresher is a refreshing cocktail made with house-made elderflower simple syrup (locally sourced elderflower)\, dry sparkling wine\, sparkling water\, and a lemon wedge\, making it the perfect drink to enjoy on a spring day\, while supporting a great cause.\n \nIn addition to great drinks\, we’re excited to feature a special guest – Chelsea from Creative Chaos will be hosting a crafting station using upcycled materials\, offering a creative way to celebrate sustainability.\n \nEven better\, $1 from every Rooted Refresher sold from April through June will go to support Wild Roots\, so you can continue giving back every time you enjoy this delicious drink throughout Q2.\n \nWe can’t wait to see you there for a fun and impactful evening! Cheers to Wild Roots and supporting our environment—one glass at a time!
URL:https://www.rivercare.org/event/earth-day-celebration-at-left-foot-charley/
LOCATION:Left Foot Charley\, 806 Red Dr. Suite 100\, Traverse City\, MI\, 49684\, United States
ATTACH;FMTTYPE=image/png:https://www.rivercare.org/wp-content/uploads/2025/04/LFC-Facebook-Event.png
ORGANIZER;CN="CRA":MAILTO:info@rivercare.org
END:VEVENT
BEGIN:VEVENT
DTSTART;TZID=America/Detroit:20250320T080000
DTEND;TZID=America/Detroit:20250320T090000
DTSTAMP:20260423T060721
CREATED:20250303T203352Z
LAST-MODIFIED:20250303T211501Z
UID:10000022-1742457600-1742461200@www.rivercare.org
SUMMARY:Coffee & Conservation
DESCRIPTION:CRA Friends\, We Miss You!\n\nAs winter settles in and we find ourselves spending more time indoors\, we want to create an opportunity for face-to-face connection. On this year’s Spring Equinox\, Thursday\, March 20\, join us for a one-hour “Coffee & Conservation” meet-up at Aroma’s Coffee & Tea (10850 E Traverse Hwy\, Traverse City) from 8 AM – 9 AM. \n\n\nCRA’s Aubri Brown will be there with a sign on her computer and a bright smile—so you’ll know exactly who to look for! Whether you’d like to chat about conservation\, learn more about CRA’s latest projects\, or simply share a life update\, we’d love to see you. If you’re short on time\, feel free to stop by and grab a business card. \n\nNew and old friends alike are welcome. Let’s connect\, share stories\, and welcome the arrival of spring together. We look forward to seeing you!”
URL:https://www.rivercare.org/event/coffee-conservation/
LOCATION:Aroma’s Coffee & Tea\, 10850 E Traverse Hwy\, Traverse City\, MI\, 49684\, United States
END:VEVENT
BEGIN:VEVENT
DTSTART;TZID=America/Detroit:20240905T150000
DTEND;TZID=America/Detroit:20240905T190000
DTSTAMP:20260423T060721
CREATED:20240329T173036Z
LAST-MODIFIED:20240807T152438Z
UID:10000020-1725548400-1725562800@www.rivercare.org
SUMMARY:CRA Friends and Partners Celebration
DESCRIPTION:We invite you to join Conservation Resource Alliance at our “CRA Friends & Partners Celebration” on September 5th\, 2024. This rebranding of CRA’s Biennial Event will also serve as a retirement celebration for Amy Beyer\, CRA’s longtime Executive Director. We look forward to celebrating Amy and our collaborative “Conservation Wins” across 15 counties in Northwest Lower Michigan. \nInterested in becoming a individual or corporate event sponsor? Contact Kat Hanson at kat@rivercare.org or ‭+1 (313) 522-3857‬.  \nCRA Friends & Partners Celebration General Information:  \nWhen: Thursday\, September 5th\, from 3 to 7 pm     \nWhere: Iron Fish Distillery (14234 Dzuibanek Rd\, Thompsonville\, MI 49683)    \nTickets: $50 per person   \nWhat’s included?    \n-Meet Suzie Knoll! (CRA’s new Executive Director)  \n-Live entertainment \n-Drinks provided \n-Gourmet Buffet (open 4:30-6 pm)   \n-Remarks from Team CRA (6-6:30 pm)   \n  \n			\n				Buy Tickets here! \n			\n				\n				\n				\n				\n				Need lodging? Read Crystal Mountain discount code information below.   \nCrystal Mountain Discount Code: \nConservation Resource AllianceGroup # 46O5ZV \nBelow are the options guests may use to book and reserve lodging at Crystal Mountain: \n• Call our Reservations Department at 1-855-520-2974 and reference your group number – 46O5ZV. \n• Book online using this link – Book Online Here. The group number and the dates of the event will automatically populate. The arrival and departure dates may be altered as needed but please note that there could be a minimum night stay requirement. \nPlease note check in for your attendees is 5pm; check out time is 11am. Remember that all guests will be asked for a credit card imprint upon check-in\, which does put a temporary charge for incidentals and balance of stay on the credit card\, unless all charges\, including incidentals\, are to be master billed. Also\, any changes or cancellations greater than 7 days from arrival may be subject to a $10 administrative fee\, and within 7 days of arrival will result in the penalty of the first nights charge.
URL:https://www.rivercare.org/event/2024-celebration/
LOCATION:Iron Fish Distillery\, Iron Fish Distillery\, Thompsonville\, Michigan\, 49683\, United States
END:VEVENT
END:VCALENDAR